BEGIN:VCALENDAR
VERSION:2.0
PRODID:-//Your Company//NONSGML v1.0//EN
BEGIN:VEVENT
UID:69eb7fb035730
DTSTAMP:20260424T143528Z
DTSTART:20261105T083000
DTEND:20261105T170000
SUMMARY:59. Swiss Compliance Officers Meeting & 45. SCOM Forum
LOCATION:Six Convention Point, Pfingstweidstrasse 110, 8005 Zürich
END:VEVENT
END:VCALENDAR
