BEGIN:VCALENDAR
VERSION:2.0
PRODID:-//Your Company//NONSGML v1.0//EN
BEGIN:VEVENT
UID:69eb6698e8faf
DTSTAMP:20260424T124824Z
DTSTART:20260917T080000
DTEND:20260917T170000
SUMMARY:Uni SG: Compliance Management Day
LOCATION:Mariott Hotel Zürich, Neumühlequai 42, 8006 Zürich
END:VEVENT
END:VCALENDAR
